BEGIN:VCALENDAR
VERSION:2.0
PRODID:KKTIX
CALSCALE:GREGORIAN
METHOD:PUBLISH
BEGIN:VTIMEZONE
TZID:Asia/Taipei
END:VTIMEZONE
BEGIN:VEVENT
DTSTAMP:20260421T112226Z
UID:bfbf0fe3-a3cc-4e15-8e55-76ddd69a3143
DTSTART:20261016T113000Z
DTEND:20261018T093000Z
CLASS:PUBLIC
DESCRIPTION:https://icatw.kktix.cc/events/5e545b06-copy-1
LOCATION:尚待確認
SUMMARY:8. ICA「奇蹟之牆」和「參與型策略規劃」 _實體課
 程 2026 Oct.16(eve) + 17-18 (WOW & PSP)
END:VEVENT
END:VCALENDAR
